BEGIN:VCALENDAR
VERSION:2.0
PRODID:-//wp-events-plugin.com//7.2.3.1//EN
TZID:Europe/Berlin
X-WR-TIMEZONE:Europe/Berlin
BEGIN:VEVENT
UID:355@joyfulvoices-rommelsbach.de
DTSTART;TZID=Europe/Berlin:20260627T180000
DTEND;TZID=Europe/Berlin:20260627T203000
DTSTAMP:20260216T125610Z
URL:https://joyfulvoices-rommelsbach.de/events/serenade-2/
SUMMARY:Serenade
DESCRIPTION:Konzert / Serenade Musikgruppen KG Reutlingen-Nord
CATEGORIES:Konzert
LOCATION:Pfarrgarten Altenburg\, Luckenäckerweg 1\, Reutlingen-Altenburg\,
  72768\, Deutschland
X-APPLE-STRUCTURED-LOCATION;VALUE=URI;X-ADDRESS=Luckenäckerweg 1\, Reutlin
 gen-Altenburg\, 72768\, Deutschland;X-APPLE-RADIUS=100;X-TITLE=Pfarrgarten
  Altenburg:geo:0,0
END:VEVENT
BEGIN:VTIMEZONE
TZID:Europe/Berlin
X-LIC-LOCATION:Europe/Berlin
BEGIN:DAYLIGHT
DTSTART:20260329T030000
TZOFFSETFROM:+0100
TZOFFSETTO:+0200
TZNAME:CEST
END:DAYLIGHT
END:VTIMEZONE
END:VCALENDAR