BEGIN:VCALENDAR
VERSION:2.0
PRODID:-//wp-events-plugin.com//7.2.3.1//EN
TZID:Europe/Berlin
X-WR-TIMEZONE:Europe/Berlin
BEGIN:VEVENT
UID:358@joyfulvoices-rommelsbach.de
DTSTART;TZID=Europe/Berlin:20261017T193000
DTEND;TZID=Europe/Berlin:20261017T210000
DTSTAMP:20260216T130237Z
URL:https://joyfulvoices-rommelsbach.de/events/konzert-ausserhalb/
SUMMARY:Konzert außerhalb
DESCRIPTION:Wir planen ein Konzert (Ort und Termin noch nicht endgültig fi
 xiert)
CATEGORIES:Konzert
END:VEVENT
BEGIN:VTIMEZONE
TZID:Europe/Berlin
X-LIC-LOCATION:Europe/Berlin
BEGIN:DAYLIGHT
DTSTART:20260329T030000
TZOFFSETFROM:+0100
TZOFFSETTO:+0200
TZNAME:CEST
END:DAYLIGHT
END:VTIMEZONE
END:VCALENDAR